BEGIN:VCALENDAR
VERSION:2.0
PRODID:spatie/icalendar-generator
DESCRIPTION:Events from Stand Up To Coal
X-WR-CALDESC:Events from Stand Up To Coal
REFRESH-INTERVAL;VALUE=DURATION:PT1440M
X-PUBLISHED-TTL:PT1440M
BEGIN:VTIMEZONE
TZID:America/Chicago
BEGIN:DAYLIGHT
DTSTART:20120311T020000Z
TZOFFSETFROM:-0600
TZOFFSETTO:-0500
END:DAYLIGHT
BEGIN:STANDARD
DTSTART:20121104T020000Z
TZOFFSETFROM:-0500
TZOFFSETTO:-0600
END:STANDARD
END:VTIMEZONE
BEGIN:VTIMEZONE
TZID:UTC
BEGIN:STANDARD
DTSTART:20250725T151710Z
TZOFFSETFROM:+0000
TZOFFSETTO:+0000
END:STANDARD
END:VTIMEZONE
BEGIN:VEVENT
UID:7-6
DTSTAMP:20260421T151710Z
SUMMARY:Urbana Informational Meeting
LOCATION:Wesley United Methodist Church   Urbana IL
ORGANIZER;CN=sutc:MAILTO:charlesgoodall@gmail.com
DTSTART;TZID=America/Chicago:20120827T190000
DTEND;TZID=America/Chicago:20120827T200000
X-ALT-DESC;FMTTYPE=TEXT/HTML:Urbana\, Monday August 27th\, 7:00pm\, at the 
 Wesley United Methodist Church
CATEGORIES:General
URL;VALUE=URI:http://www.standuptocoal.org/mc-events/urbana-informational-m
 eeting-2/?mc_id=7
END:VEVENT
END:VCALENDAR