BEGIN:VCALENDAR
VERSION:2.0
PRODID:spatie/icalendar-generator
DESCRIPTION:Events from Stand Up To Coal
X-WR-CALDESC:Events from Stand Up To Coal
REFRESH-INTERVAL;VALUE=DURATION:PT1440M
X-PUBLISHED-TTL:PT1440M
BEGIN:VTIMEZONE
TZID:America/Chicago
BEGIN:DAYLIGHT
DTSTART:20120311T020000Z
TZOFFSETFROM:-0600
TZOFFSETTO:-0500
END:DAYLIGHT
BEGIN:STANDARD
DTSTART:20121104T020000Z
TZOFFSETFROM:-0500
TZOFFSETTO:-0600
END:STANDARD
BEGIN:DAYLIGHT
DTSTART:20130310T020000Z
TZOFFSETFROM:-0600
TZOFFSETTO:-0500
END:DAYLIGHT
END:VTIMEZONE
BEGIN:VTIMEZONE
TZID:UTC
BEGIN:STANDARD
DTSTART:20250725T175332Z
TZOFFSETFROM:+0000
TZOFFSETTO:+0000
END:STANDARD
END:VTIMEZONE
BEGIN:VEVENT
UID:3-8
DTSTAMP:20260421T175332Z
SUMMARY:Homer Village Board Special Meeting on Coal Mine Water Sale
LOCATION:Village Hall   Homer IL
ORGANIZER;CN=sutc:MAILTO:charlesgoodall@gmail.com
DTSTART;TZID=America/Chicago:20120926T190000
DTEND;TZID=America/Chicago:20120926T210000
X-ALT-DESC;FMTTYPE=TEXT/HTML:
CATEGORIES:General
URL;VALUE=URI:http://www.standuptocoal.org/mc-events/homer-village-board-sp
 ecial-meeting-on-coal-mine-water-sale-2/?mc_id=3
END:VEVENT
END:VCALENDAR