BEGIN:VCALENDAR
VERSION:2.0
PRODID:spatie/icalendar-generator
DESCRIPTION:Events from Stand Up To Coal
X-WR-CALDESC:Events from Stand Up To Coal
REFRESH-INTERVAL;VALUE=DURATION:PT1440M
X-PUBLISHED-TTL:PT1440M
BEGIN:VTIMEZONE
TZID:America/Chicago
BEGIN:DAYLIGHT
DTSTART:20140309T020000Z
TZOFFSETFROM:-0600
TZOFFSETTO:-0500
END:DAYLIGHT
BEGIN:STANDARD
DTSTART:20141102T020000Z
TZOFFSETFROM:-0500
TZOFFSETTO:-0600
END:STANDARD
BEGIN:DAYLIGHT
DTSTART:20150308T020000Z
TZOFFSETFROM:-0600
TZOFFSETTO:-0500
END:DAYLIGHT
END:VTIMEZONE
BEGIN:VTIMEZONE
TZID:UTC
BEGIN:STANDARD
DTSTART:20250726T160224Z
TZOFFSETFROM:+0000
TZOFFSETTO:+0000
END:STANDARD
END:VTIMEZONE
BEGIN:VEVENT
UID:25-19
DTSTAMP:20260422T160224Z
SUMMARY:IDNR Informal Conference For Permit Application #429
LOCATION:
ORGANIZER;CN=sutc:MAILTO:charlesgoodall@gmail.com
DTSTART;TZID=America/Chicago:20141007T180000
DTEND;TZID=America/Chicago:20141007T200000
X-ALT-DESC;FMTTYPE=TEXT/HTML:The IDNR is holding a public informal conferen
 ce to hear comments about Sunrise Coal's permit application for the propos
 ed Bulldog Mine. Public comments are encouraged.
CATEGORIES:General
URL;VALUE=URI:http://www.standuptocoal.org/mc-events/idnr-informal-conferen
 ce-for-permit-application-429/?mc_id=25
END:VEVENT
END:VCALENDAR