BEGIN:VCALENDAR
VERSION:2.0
PRODID:spatie/icalendar-generator
DESCRIPTION:Events from Stand Up To Coal
X-WR-CALDESC:Events from Stand Up To Coal
REFRESH-INTERVAL;VALUE=DURATION:PT1440M
X-PUBLISHED-TTL:PT1440M
BEGIN:VTIMEZONE
TZID:America/Chicago
BEGIN:STANDARD
DTSTART:20131103T020000Z
TZOFFSETFROM:-0500
TZOFFSETTO:-0600
END:STANDARD
BEGIN:DAYLIGHT
DTSTART:20140309T020000Z
TZOFFSETFROM:-0600
TZOFFSETTO:-0500
END:DAYLIGHT
END:VTIMEZONE
BEGIN:VTIMEZONE
TZID:UTC
BEGIN:STANDARD
DTSTART:20250726T145043Z
TZOFFSETFROM:+0000
TZOFFSETTO:+0000
END:STANDARD
END:VTIMEZONE
BEGIN:VEVENT
UID:24-18
DTSTAMP:20260422T145043Z
SUMMARY:Homer Informational Meeting
LOCATION:Homer Village Hall 500 E. Second St.  Homer IL 61849
ORGANIZER;CN=sutc:MAILTO:charlesgoodall@gmail.com
DTSTART;TZID=America/Chicago:20140108T190000
DTEND;TZID=America/Chicago:20140108T200000
X-ALT-DESC;FMTTYPE=TEXT/HTML:Join us for a chance to update everyone on Sun
 rise Coal's current permitting plans and continue spreading awareness abou
 t Sunrise Coal's proposed Bulldog Mine outside of Homer.
CATEGORIES:General
URL;VALUE=URI:http://www.standuptocoal.org/mc-events/homer-informational-me
 eting-2/?mc_id=24
END:VEVENT
END:VCALENDAR