BEGIN:VCALENDAR
VERSION:2.0
PRODID:spatie/icalendar-generator
DESCRIPTION:Events from Stand Up To Coal
X-WR-CALDESC:Events from Stand Up To Coal
REFRESH-INTERVAL;VALUE=DURATION:PT1440M
X-PUBLISHED-TTL:PT1440M
BEGIN:VTIMEZONE
TZID:America/Chicago
BEGIN:STANDARD
DTSTART:20121104T020000Z
TZOFFSETFROM:-0500
TZOFFSETTO:-0600
END:STANDARD
BEGIN:DAYLIGHT
DTSTART:20130310T020000Z
TZOFFSETFROM:-0600
TZOFFSETTO:-0500
END:DAYLIGHT
BEGIN:STANDARD
DTSTART:20131103T020000Z
TZOFFSETFROM:-0500
TZOFFSETTO:-0600
END:STANDARD
END:VTIMEZONE
BEGIN:VTIMEZONE
TZID:UTC
BEGIN:STANDARD
DTSTART:20250726T001405Z
TZOFFSETFROM:+0000
TZOFFSETTO:+0000
END:STANDARD
END:VTIMEZONE
BEGIN:VEVENT
UID:20-14
DTSTAMP:20260422T001405Z
SUMMARY:Public Informational Meeting Near Georgetown
LOCATION:Forest Glen Preserve  20301 E 900 North Rd.  Westville IL 61883
ORGANIZER;CN=sutc:MAILTO:charlesgoodall@gmail.com
DTSTART;TZID=America/Chicago:20130717T180000
DTEND;TZID=America/Chicago:20130717T190000
X-ALT-DESC;FMTTYPE=TEXT/HTML:Members of Stand Up to Coal and Prairie Rivers
  Network are holding a public informational meeting to address the concern
 s of Georgetown\, Illinois and neighboring Indiana residents regarding the
  recent decision by the Georgetown city council to sell water to Sunrise C
 oalâ€™s Bulldog mine. The meeting will feature an overview of the min
 eâ€™s threats to&amp;hellip\;
CATEGORIES:General
URL;VALUE=URI:http://www.standuptocoal.org/mc-events/public-informational-m
 eeting-near-georgetown-2/?mc_id=20
END:VEVENT
END:VCALENDAR