BEGIN:VCALENDAR
VERSION:2.0
PRODID:spatie/icalendar-generator
DESCRIPTION:Events from Stand Up To Coal
X-WR-CALDESC:Events from Stand Up To Coal
REFRESH-INTERVAL;VALUE=DURATION:PT1440M
X-PUBLISHED-TTL:PT1440M
BEGIN:VTIMEZONE
TZID:America/Chicago
BEGIN:STANDARD
DTSTART:20121104T020000Z
TZOFFSETFROM:-0500
TZOFFSETTO:-0600
END:STANDARD
BEGIN:DAYLIGHT
DTSTART:20130310T020000Z
TZOFFSETFROM:-0600
TZOFFSETTO:-0500
END:DAYLIGHT
BEGIN:STANDARD
DTSTART:20131103T020000Z
TZOFFSETFROM:-0500
TZOFFSETTO:-0600
END:STANDARD
END:VTIMEZONE
BEGIN:VTIMEZONE
TZID:UTC
BEGIN:STANDARD
DTSTART:20250725T211214Z
TZOFFSETFROM:+0000
TZOFFSETTO:+0000
END:STANDARD
END:VTIMEZONE
BEGIN:VEVENT
UID:12-12
DTSTAMP:20260421T211214Z
SUMMARY:Public Information Meeting
LOCATION:University YMCA 1001 S. Wright St.  Champaign IL
ORGANIZER;CN=sutc:MAILTO:charlesgoodall@gmail.com
DTSTART;TZID=America/Chicago:20130618T190000
DTEND;TZID=America/Chicago:20130618T135300
X-ALT-DESC;FMTTYPE=TEXT/HTML:
CATEGORIES:General
URL;VALUE=URI:http://www.standuptocoal.org/mc-events/public-information-mee
 ting-2/?mc_id=12
END:VEVENT
END:VCALENDAR