BEGIN:VCALENDAR
VERSION:2.0
PRODID:spatie/icalendar-generator
DESCRIPTION:Events from Stand Up To Coal
X-WR-CALDESC:Events from Stand Up To Coal
REFRESH-INTERVAL;VALUE=DURATION:PT1440M
X-PUBLISHED-TTL:PT1440M
BEGIN:VTIMEZONE
TZID:America/Chicago
BEGIN:STANDARD
DTSTART:20101107T020000Z
TZOFFSETFROM:-0500
TZOFFSETTO:-0600
END:STANDARD
BEGIN:DAYLIGHT
DTSTART:20110313T020000Z
TZOFFSETFROM:-0600
TZOFFSETTO:-0500
END:DAYLIGHT
END:VTIMEZONE
BEGIN:VTIMEZONE
TZID:UTC
BEGIN:STANDARD
DTSTART:20250725T151848Z
TZOFFSETFROM:+0000
TZOFFSETTO:+0000
END:STANDARD
END:VTIMEZONE
BEGIN:VEVENT
UID:1-1
DTSTAMP:20260421T151848Z
SUMMARY:SUTC at Vermilion County Board
LOCATION:UCSD Urbana Plant 1100 E. University Ave  Urbana IL 61801
ORGANIZER;CN=sutc:MAILTO:charlesgoodall@gmail.com
DTSTART;TZID=America/Chicago:20110308T180000
DTEND;TZID=America/Chicago:20110308T190000
X-ALT-DESC;FMTTYPE=TEXT/HTML:<p>SUTC presents questions and resolution at V
 ermilion County Board</p>\n
CATEGORIES:General
URL;VALUE=URI:http://www.standuptocoal.org/mc-events/sutc-at-vermilion-coun
 ty-board-2/?mc_id=1
END:VEVENT
END:VCALENDAR