BEGIN:VCALENDAR
VERSION:2.0
PRODID:spatie/icalendar-generator
DESCRIPTION:Events from Stand Up To Coal
X-WR-CALDESC:Events from Stand Up To Coal
REFRESH-INTERVAL;VALUE=DURATION:PT1440M
X-PUBLISHED-TTL:PT1440M
BEGIN:VTIMEZONE
TZID:America/Chicago
BEGIN:DAYLIGHT
DTSTART:20120311T020000Z
TZOFFSETFROM:-0600
TZOFFSETTO:-0500
END:DAYLIGHT
BEGIN:STANDARD
DTSTART:20121104T020000Z
TZOFFSETFROM:-0500
TZOFFSETTO:-0600
END:STANDARD
END:VTIMEZONE
BEGIN:VTIMEZONE
TZID:UTC
BEGIN:STANDARD
DTSTART:20250725T151201Z
TZOFFSETFROM:+0000
TZOFFSETTO:+0000
END:STANDARD
END:VTIMEZONE
BEGIN:VEVENT
UID:8-7
DTSTAMP:20260421T151201Z
SUMMARY:Oakwood Informational Meeting
LOCATION:Sleepy Creek Vineyards 8254 1425 North Road  Fairmont IL 61841
ORGANIZER;CN=sutc:MAILTO:charlesgoodall@gmail.com
DTSTART;TZID=America/Chicago:20120828T180000
DTEND;TZID=America/Chicago:20120828T190000
X-ALT-DESC;FMTTYPE=TEXT/HTML:Oakwood\, Tuesday August 28th\, 6:00pm\, at Sl
 eepy Creek Vineyards
CATEGORIES:General
URL;VALUE=URI:http://www.standuptocoal.org/mc-events/oakwood-informational-
 meeting-2/?mc_id=8
END:VEVENT
END:VCALENDAR