BEGIN:VCALENDAR
VERSION:2.0
PRODID:spatie/icalendar-generator
DESCRIPTION:Events from Stand Up To Coal
X-WR-CALDESC:Events from Stand Up To Coal
REFRESH-INTERVAL;VALUE=DURATION:PT1440M
X-PUBLISHED-TTL:PT1440M
BEGIN:VTIMEZONE
TZID:America/Chicago
BEGIN:DAYLIGHT
DTSTART:20120311T020000Z
TZOFFSETFROM:-0600
TZOFFSETTO:-0500
END:DAYLIGHT
BEGIN:STANDARD
DTSTART:20121104T020000Z
TZOFFSETFROM:-0500
TZOFFSETTO:-0600
END:STANDARD
END:VTIMEZONE
BEGIN:VTIMEZONE
TZID:UTC
BEGIN:STANDARD
DTSTART:20250725T122216Z
TZOFFSETFROM:+0000
TZOFFSETTO:+0000
END:STANDARD
END:VTIMEZONE
BEGIN:VEVENT
UID:6-5
DTSTAMP:20260421T122216Z
SUMMARY:Ogden Informational Meeting
LOCATION:Ogden United Methodist Church   Ogden IL
ORGANIZER;CN=sutc:MAILTO:charlesgoodall@gmail.com
DTSTART;TZID=America/Chicago:20120822T183000
DTEND;TZID=America/Chicago:20120822T193000
X-ALT-DESC;FMTTYPE=TEXT/HTML:Ogden\, Wednesday August 22nd\, 6:30pm at the 
 Ogden United Methodist Church
CATEGORIES:General
URL;VALUE=URI:http://www.standuptocoal.org/mc-events/ogden-informational-me
 eting-2/?mc_id=6
END:VEVENT
END:VCALENDAR