BEGIN:VCALENDAR
VERSION:2.0
PRODID:spatie/icalendar-generator
DESCRIPTION:Events from Stand Up To Coal
X-WR-CALDESC:Events from Stand Up To Coal
REFRESH-INTERVAL;VALUE=DURATION:PT1440M
X-PUBLISHED-TTL:PT1440M
BEGIN:VTIMEZONE
TZID:America/Chicago
BEGIN:DAYLIGHT
DTSTART:20120311T020000Z
TZOFFSETFROM:-0600
TZOFFSETTO:-0500
END:DAYLIGHT
BEGIN:STANDARD
DTSTART:20121104T020000Z
TZOFFSETFROM:-0500
TZOFFSETTO:-0600
END:STANDARD
END:VTIMEZONE
BEGIN:VTIMEZONE
TZID:UTC
BEGIN:STANDARD
DTSTART:20250725T134555Z
TZOFFSETFROM:+0000
TZOFFSETTO:+0000
END:STANDARD
END:VTIMEZONE
BEGIN:VEVENT
UID:5-4
DTSTAMP:20260421T134555Z
SUMMARY:Sidell Informational Meeting
LOCATION:Brick Street Cafe 302 N Gray Street  Sidell il 61876
ORGANIZER;CN=sutc:MAILTO:charlesgoodall@gmail.com
DTSTART;TZID=America/Chicago:20120808T190000
DTEND;TZID=America/Chicago:20120808T200000
X-ALT-DESC;FMTTYPE=TEXT/HTML:Sidell\, Wednesday August 8th\, 7:00pm at the 
 Brick Street Cafe in Sidell
CATEGORIES:General
URL;VALUE=URI:http://www.standuptocoal.org/mc-events/sidell-informational-m
 eeting-2/?mc_id=5
END:VEVENT
END:VCALENDAR