BEGIN:VCALENDAR
VERSION:2.0
PRODID:spatie/icalendar-generator
DESCRIPTION:Events from Stand Up To Coal
X-WR-CALDESC:Events from Stand Up To Coal
REFRESH-INTERVAL;VALUE=DURATION:PT1440M
X-PUBLISHED-TTL:PT1440M
BEGIN:VTIMEZONE
TZID:America/Chicago
BEGIN:DAYLIGHT
DTSTART:20130310T020000Z
TZOFFSETFROM:-0600
TZOFFSETTO:-0500
END:DAYLIGHT
BEGIN:STANDARD
DTSTART:20131103T020000Z
TZOFFSETFROM:-0500
TZOFFSETTO:-0600
END:STANDARD
BEGIN:DAYLIGHT
DTSTART:20140309T020000Z
TZOFFSETFROM:-0600
TZOFFSETTO:-0500
END:DAYLIGHT
END:VTIMEZONE
BEGIN:VTIMEZONE
TZID:UTC
BEGIN:STANDARD
DTSTART:20250726T105145Z
TZOFFSETFROM:+0000
TZOFFSETTO:+0000
END:STANDARD
END:VTIMEZONE
BEGIN:VEVENT
UID:23-17
DTSTAMP:20260422T105145Z
SUMMARY:Vermilion Mine Informational Meeting
LOCATION:Catlin Public Library 101 Mapleleaf Dr.  Catlin IL
ORGANIZER;CN=sutc:MAILTO:charlesgoodall@gmail.com
DTSTART;TZID=America/Chicago:20131204T190000
DTEND;TZID=America/Chicago:20131204T202900
X-ALT-DESC;FMTTYPE=TEXT/HTML:Public meeting to hear updates on the progress
  of Sunrise Coal's proposed Bulldog Mine
CATEGORIES:General
URL;VALUE=URI:http://www.standuptocoal.org/mc-events/vermilion-mine-informa
 tional-meeting-4/?mc_id=23
END:VEVENT
END:VCALENDAR