BEGIN:VCALENDAR
VERSION:2.0
PRODID:spatie/icalendar-generator
DESCRIPTION:Events from Stand Up To Coal
X-WR-CALDESC:Events from Stand Up To Coal
REFRESH-INTERVAL;VALUE=DURATION:PT1440M
X-PUBLISHED-TTL:PT1440M
BEGIN:VTIMEZONE
TZID:America/Chicago
BEGIN:DAYLIGHT
DTSTART:20130310T020000Z
TZOFFSETFROM:-0600
TZOFFSETTO:-0500
END:DAYLIGHT
BEGIN:STANDARD
DTSTART:20131103T020000Z
TZOFFSETFROM:-0500
TZOFFSETTO:-0600
END:STANDARD
END:VTIMEZONE
BEGIN:VTIMEZONE
TZID:UTC
BEGIN:STANDARD
DTSTART:20250726T012350Z
TZOFFSETFROM:+0000
TZOFFSETTO:+0000
END:STANDARD
END:VTIMEZONE
BEGIN:VEVENT
UID:21-15
DTSTAMP:20260422T012350Z
SUMMARY:Georgetown Public Meeting
LOCATION:Mary Miller Jr. High School 414 W. West St.  Georgetown IL
ORGANIZER;CN=sutc:MAILTO:charlesgoodall@gmail.com
DTSTART;TZID=America/Chicago:20130802T180000
DTEND;TZID=America/Chicago:20130802T193600
X-ALT-DESC;FMTTYPE=TEXT/HTML:
CATEGORIES:General
URL;VALUE=URI:http://www.standuptocoal.org/mc-events/georgetown-public-meet
 ing-2/?mc_id=21
END:VEVENT
END:VCALENDAR