BEGIN:VCALENDAR
VERSION:2.0
PRODID:spatie/icalendar-generator
DESCRIPTION:Events from Stand Up To Coal
X-WR-CALDESC:Events from Stand Up To Coal
REFRESH-INTERVAL;VALUE=DURATION:PT1440M
X-PUBLISHED-TTL:PT1440M
BEGIN:VTIMEZONE
TZID:America/Chicago
BEGIN:STANDARD
DTSTART:20121104T020000Z
TZOFFSETFROM:-0500
TZOFFSETTO:-0600
END:STANDARD
BEGIN:DAYLIGHT
DTSTART:20130310T020000Z
TZOFFSETFROM:-0600
TZOFFSETTO:-0500
END:DAYLIGHT
BEGIN:STANDARD
DTSTART:20131103T020000Z
TZOFFSETFROM:-0500
TZOFFSETTO:-0600
END:STANDARD
END:VTIMEZONE
BEGIN:VTIMEZONE
TZID:UTC
BEGIN:STANDARD
DTSTART:20250725T180753Z
TZOFFSETFROM:+0000
TZOFFSETTO:+0000
END:STANDARD
END:VTIMEZONE
BEGIN:VEVENT
UID:11-11
DTSTAMP:20260421T180753Z
SUMMARY:Krannert Center's \"Outside at the Research Park\"
LOCATION:UI Research Park 1816 S. Oak St.  Champaign IL
ORGANIZER;CN=sutc:MAILTO:charlesgoodall@gmail.com
DTSTART;TZID=America/Chicago:20130614T180000
DTEND;TZID=America/Chicago:20130614T135200
X-ALT-DESC;FMTTYPE=TEXT/HTML:
CATEGORIES:General
URL;VALUE=URI:http://www.standuptocoal.org/mc-events/krannert-centers-outsi
 de-at-the-research-park-2/?mc_id=11
END:VEVENT
END:VCALENDAR